BEGIN:VCALENDAR
VERSION:2.0
PRODID:-//Kino Tuškanac//Filmski programi//HR
BEGIN:VEVENT
UID:595b2f271aacff3582f3e12a104b48da@kinotuskanac.hr
DTSTAMP:20260423T074316Z
DTSTART:20061030T190000
DTEND:20061030T210000
SUMMARY:Rocco i njegova braća
LOCATION:Kino Tuškanac
DESCRIPTION:Rocco e i suoi fratelli, Italija, Francuska, 1960 | Mjesto prikazivanja filma: Centar za kulturu Histrionski dom (Ilica 90) R: Luchino Visconti
END:VEVENT
END:VCALENDAR