BEGIN:VCALENDAR
VERSION:2.0
PRODID:-//Kino Tuškanac//Filmski programi//HR
BEGIN:VEVENT
UID:05fdd1f52a91972976ab8a5a09ce8ba3@kinotuskanac.hr
DTSTAMP:20260420T230352Z
DTSTART:20061104T190000
DTEND:20061104T210000
SUMMARY:Gepard
LOCATION:Kino Tuškanac
DESCRIPTION:Il gattopardo, Italija, Francuska, 1963 R: Luchino Visconti
END:VEVENT
END:VCALENDAR