BEGIN:VCALENDAR
VERSION:2.0
PRODID:-//Kino Tuškanac//Filmski programi//HR
BEGIN:VEVENT
UID:c4504cb170449bff2ed794076b8403da@kinotuskanac.hr
DTSTAMP:20260420T230645Z
DTSTART:20061106T190000
DTEND:20061106T210000
SUMMARY:Gepard
LOCATION:Kino Tuškanac
DESCRIPTION:Il gattopardo, Italija, Francuska, 1963 R: Luchino Visconti
END:VEVENT
END:VCALENDAR